BEGIN:VCALENDAR
VERSION:2.0
PRODID:-//Sabre//Sabre VObject 4.5.7//EN
CALSCALE:GREGORIAN
BEGIN:VEVENT
UID:sabre-vobject-b8f6c995-35d0-46df-ad98-a66dea86d34e
DTSTAMP:20260422T123432Z
SUMMARY:Appel à candidatures - Prix Émergences 2022
LOCATION:
DTSTART;TZID=Europe/Paris:20220912T000000
DTEND;TZID=Europe/Paris:20221009T000000
END:VEVENT
END:VCALENDAR
