BEGIN:VCALENDAR
VERSION:2.0
PRODID:-//Sabre//Sabre VObject 4.5.7//EN
CALSCALE:GREGORIAN
BEGIN:VEVENT
UID:sabre-vobject-a8e81019-5f4a-46b9-817b-96906f24a5ed
DTSTAMP:20260423T182122Z
SUMMARY:#Atelier 1 - Comment bien gérer vos droits et vos contenus sur You
 Tube ?
LOCATION:Google France - 8 rue de Londres\, 75009 Paris\n
DTSTART;TZID=Europe/Paris:20231121T183000
DTEND;TZID=Europe/Paris:20231121T000000
END:VEVENT
END:VCALENDAR
