BEGIN:VCALENDAR
VERSION:2.0
PRODID:-//Sabre//Sabre VObject 4.5.7//EN
CALSCALE:GREGORIAN
BEGIN:VEVENT
UID:sabre-vobject-7e7cc612-5635-4ab7-9e52-f3de1beb07c8
DTSTAMP:20260423T104500Z
SUMMARY:Atelier : Comment lire son contrat d'édition ?
LOCATION:En visioconférence
DTSTART;TZID=Europe/Paris:20250409T143000
DTEND;TZID=Europe/Paris:20250409T163000
END:VEVENT
END:VCALENDAR
