BEGIN:VCALENDAR
VERSION:2.0
PRODID:-//Sabre//Sabre VObject 4.5.7//EN
CALSCALE:GREGORIAN
BEGIN:VEVENT
UID:sabre-vobject-6131676a-1ca5-42df-84dd-e5c494b984ac
DTSTAMP:20260423T092234Z
SUMMARY:Atelier : Comment lire son contrat d'édition ?
LOCATION:En visioconférence
DTSTART;TZID=Europe/Paris:20260310T143000
DTEND;TZID=Europe/Paris:20260310T160000
END:VEVENT
END:VCALENDAR
