BEGIN:VCALENDAR
VERSION:2.0
PRODID:-//Sabre//Sabre VObject 4.5.7//EN
CALSCALE:GREGORIAN
BEGIN:VEVENT
UID:sabre-vobject-c15cbfad-926a-4e3c-bc8e-1bdea87791b4
DTSTAMP:20260423T121346Z
SUMMARY:Atelier : Comment lire son contrat d'édition ?
LOCATION:En visioconférence
DTSTART;TZID=Europe/Paris:20240326T143000
DTEND;TZID=Europe/Paris:20240326T163000
END:VEVENT
END:VCALENDAR
