BEGIN:VCALENDAR
VERSION:2.0
PRODID:-//Sabre//Sabre VObject 4.5.7//EN
CALSCALE:GREGORIAN
BEGIN:VEVENT
UID:sabre-vobject-b5d857a9-a4cd-44e5-b277-f671d32d002a
DTSTAMP:20260421T114631Z
SUMMARY:Atelier : L’adaptation d’une œuvre littéraire en œuvre audio
 visuelle documentaire
LOCATION:À la Scam ou en visioconférence
DTSTART;TZID=Europe/Paris:20250605T143000
DTEND;TZID=Europe/Paris:20250605T160000
END:VEVENT
END:VCALENDAR
