BEGIN:VCALENDAR
VERSION:2.0
PRODID:-//Sabre//Sabre VObject 4.5.7//EN
CALSCALE:GREGORIAN
BEGIN:VEVENT
UID:sabre-vobject-c27d47dd-fd0e-466d-be1f-4d7cd356e2a5
DTSTAMP:20260421T101119Z
SUMMARY:Atelier : L’adaptation d’une œuvre littéraire en œuvre audio
 visuelle documentaire
LOCATION:À la Scam ou en visioconférence
DTSTART;TZID=Europe/Paris:20241219T143000
DTEND;TZID=Europe/Paris:20241219T160000
END:VEVENT
END:VCALENDAR
