BEGIN:VCALENDAR
VERSION:2.0
PRODID:-//Sabre//Sabre VObject 4.5.7//EN
CALSCALE:GREGORIAN
BEGIN:VEVENT
UID:sabre-vobject-2ae60b35-f9ca-4f89-b316-b194a7aae0db
DTSTAMP:20260423T135642Z
SUMMARY:Atelier : L'élaboration d'un dossier de demande d'aide à la créa
 tion sonore
LOCATION:En visioconférence 
DTSTART;TZID=Europe/Paris:20240319T103000
DTEND;TZID=Europe/Paris:20240319T123000
END:VEVENT
END:VCALENDAR
