BEGIN:VCALENDAR
VERSION:2.0
PRODID:-//Sabre//Sabre VObject 4.5.7//EN
CALSCALE:GREGORIAN
BEGIN:VEVENT
UID:sabre-vobject-4b063835-20de-49f6-b545-23f23d008d56
DTSTAMP:20260423T170605Z
SUMMARY:Atelier - Vidéastes\, quel statut adopter ?
LOCATION:En visioconférence
DTSTART;TZID=Europe/Paris:20231215T140000
DTEND;TZID=Europe/Paris:20231215T160000
END:VEVENT
END:VCALENDAR
