BEGIN:VCALENDAR
VERSION:2.0
PRODID:-//Sabre//Sabre VObject 4.5.7//EN
CALSCALE:GREGORIAN
BEGIN:VEVENT
UID:sabre-vobject-3704f08f-f22c-45f6-a5c9-3a214ab465b3
DTSTAMP:20260423T213256Z
SUMMARY:La Scam à l'IDFA
LOCATION:à Amsterdam
DTSTART;TZID=Europe/Paris:20241114T000000
DTEND;TZID=Europe/Paris:20241118T000000
END:VEVENT
END:VCALENDAR
