BEGIN:VCALENDAR
VERSION:2.0
PRODID:-//Sabre//Sabre VObject 4.5.7//EN
CALSCALE:GREGORIAN
BEGIN:VEVENT
UID:sabre-vobject-33e7abe0-faa4-431b-975a-256692b239a3
DTSTAMP:20260423T200333Z
SUMMARY:La Scam à l’IDFA 2025
LOCATION:À Amsterdam
DTSTART;TZID=Europe/Paris:20251113T000000
DTEND;TZID=Europe/Paris:20251117T000000
END:VEVENT
END:VCALENDAR
