BEGIN:VCALENDAR
VERSION:2.0
PRODID:-//Sabre//Sabre VObject 4.5.7//EN
CALSCALE:GREGORIAN
BEGIN:VEVENT
UID:sabre-vobject-24c531d8-f079-4ae2-ae43-18b33aed12e9
DTSTAMP:20260423T231701Z
SUMMARY:La Scam à l'IDFA
LOCATION:à Amsterdam
DTSTART;TZID=Europe/Paris:20231109T000000
DTEND;TZID=Europe/Paris:20231112T000000
END:VEVENT
END:VCALENDAR
