BEGIN:VCALENDAR
VERSION:2.0
PRODID:-//Sabre//Sabre VObject 4.5.7//EN
CALSCALE:GREGORIAN
BEGIN:VEVENT
UID:sabre-vobject-5088d9ae-a8c8-4557-b92f-006608896bf6
DTSTAMP:20260422T105615Z
SUMMARY:Le Fipadoc au Cinéma Le Balzac
LOCATION:au Cinéma Le Balzac à Paris
DTSTART;TZID=Europe/Paris:20220427T000000
DTEND;TZID=Europe/Paris:20220502T000000
END:VEVENT
END:VCALENDAR
