BEGIN:VCALENDAR
VERSION:2.0
PRODID:-//Sabre//Sabre VObject 4.5.7//EN
CALSCALE:GREGORIAN
BEGIN:VEVENT
UID:sabre-vobject-26ac4913-56a0-4ec9-bc5d-94e1e02a367f
DTSTAMP:20260423T153118Z
SUMMARY:Atelier : Panorama des aides à la création audiovisuelle
LOCATION:En visioconférence (Complet)
DTSTART;TZID=Europe/Paris:20231221T140000
DTEND;TZID=Europe/Paris:20231221T160000
END:VEVENT
END:VCALENDAR
