BEGIN:VCALENDAR
VERSION:2.0
PRODID:-//Sabre//Sabre VObject 4.5.7//EN
CALSCALE:GREGORIAN
BEGIN:VEVENT
UID:sabre-vobject-d6e5ed77-9246-4d71-8c74-1fa58e27d328
DTSTAMP:20260424T120530Z
SUMMARY:Prix Mentor 2026 : appel à projets #4
LOCATION:
DTSTART;TZID=Europe/Paris:20260601T000000
DTEND;TZID=Europe/Paris:20260621T000000
END:VEVENT
END:VCALENDAR
