BEGIN:VCALENDAR
VERSION:2.0
PRODID:-//Sabre//Sabre VObject 4.5.7//EN
CALSCALE:GREGORIAN
BEGIN:VEVENT
UID:sabre-vobject-996f65a4-511b-4975-ad4c-cf54d50833a1
DTSTAMP:20260424T120903Z
SUMMARY:Prix Mentor 2026 : appel à projets #5
LOCATION:
DTSTART;TZID=Europe/Paris:20260724T000000
DTEND;TZID=Europe/Paris:20260817T000000
END:VEVENT
END:VCALENDAR
