BEGIN:VCALENDAR
VERSION:2.0
PRODID:-//Sabre//Sabre VObject 4.5.7//EN
CALSCALE:GREGORIAN
BEGIN:VEVENT
UID:sabre-vobject-8f283a40-4f8e-44be-a9ed-828522587c14
DTSTAMP:20260420T103928Z
SUMMARY:Projection – « Combattantes » de Valérie Müller
LOCATION:à la Scam
DTSTART;TZID=Europe/Paris:20220413T193000
DTEND;TZID=Europe/Paris:20220413T000000
END:VEVENT
END:VCALENDAR
