BEGIN:VCALENDAR
VERSION:2.0
PRODID:-//Sabre//Sabre VObject 4.5.7//EN
CALSCALE:GREGORIAN
BEGIN:VEVENT
UID:sabre-vobject-9cc0f2eb-70a0-49e0-9014-e13af7a7c524
DTSTAMP:20260420T225357Z
SUMMARY:Projection des courts métrages nommés pour les César documentair
 es 2025
LOCATION:À la Scam - Auditorium Charles Brabant
DTSTART;TZID=Europe/Paris:20250214T190000
DTEND;TZID=Europe/Paris:20250214T000000
END:VEVENT
END:VCALENDAR
