BEGIN:VCALENDAR
VERSION:2.0
PRODID:-//Sabre//Sabre VObject 4.5.7//EN
CALSCALE:GREGORIAN
BEGIN:VEVENT
UID:sabre-vobject-627863f4-f14d-4e87-8f11-3cffbbeb50cc
DTSTAMP:20260421T231725Z
SUMMARY:Projection – «  Dizer Adeus » de Carolina Sá
LOCATION:à la Cinémathèque Robert Lynen
DTSTART;TZID=Europe/Paris:20231212T190000
DTEND;TZID=Europe/Paris:20231212T000000
END:VEVENT
END:VCALENDAR
