BEGIN:VCALENDAR
VERSION:2.0
PRODID:-//Sabre//Sabre VObject 4.5.7//EN
CALSCALE:GREGORIAN
BEGIN:VEVENT
UID:sabre-vobject-074577db-4ae0-4538-9eef-5e9d93c8c77a
DTSTAMP:20260421T131248Z
SUMMARY:Projection – « Hotel Metalurg » de Jeanne Nouchi et George Vars
 imashvili
LOCATION:à la Cinémathèque Robert Lynen
DTSTART;TZID=Europe/Paris:20231123T190000
DTEND;TZID=Europe/Paris:20231123T000000
END:VEVENT
END:VCALENDAR
