BEGIN:VCALENDAR
VERSION:2.0
PRODID:-//Sabre//Sabre VObject 4.5.7//EN
CALSCALE:GREGORIAN
BEGIN:VEVENT
UID:sabre-vobject-78d6ece5-e4bf-4882-805e-2ef1564f26ef
DTSTAMP:20260422T090728Z
SUMMARY:Projection – « L'Amiral Tchoumakov » de Laurier Fourniau et Arn
 aud Alberola
LOCATION:à la Scam
DTSTART;TZID=Europe/Paris:20220419T190000
DTEND;TZID=Europe/Paris:20220419T000000
END:VEVENT
END:VCALENDAR
