BEGIN:VCALENDAR
VERSION:2.0
PRODID:-//Sabre//Sabre VObject 4.5.7//EN
CALSCALE:GREGORIAN
BEGIN:VEVENT
UID:sabre-vobject-94188919-1d2d-4ce4-9e0e-965137a64d5c
DTSTAMP:20260421T180641Z
SUMMARY:Projection – « Le camembert\, un roman national » de Thierry Be
 llaiche
LOCATION:à la Cinémathèque Robert Lynen
DTSTART;TZID=Europe/Paris:20231129T190000
DTEND;TZID=Europe/Paris:20231129T000000
END:VEVENT
END:VCALENDAR
