BEGIN:VCALENDAR
VERSION:2.0
PRODID:-//Sabre//Sabre VObject 4.5.7//EN
CALSCALE:GREGORIAN
BEGIN:VEVENT
UID:sabre-vobject-fda9a1b3-1de1-4274-bf90-183daa8d2f1d
DTSTAMP:20260421T214020Z
SUMMARY:Projection – « Le sol indien en révolution » de Renuka George
LOCATION:à la Cinémathèque Robert Lynen
DTSTART;TZID=Europe/Paris:20231204T190000
DTEND;TZID=Europe/Paris:20231204T000000
END:VEVENT
END:VCALENDAR
