BEGIN:VCALENDAR
VERSION:2.0
PRODID:-//Sabre//Sabre VObject 4.5.7//EN
CALSCALE:GREGORIAN
BEGIN:VEVENT
UID:sabre-vobject-1436c12d-731a-480b-a103-0843680fa765
DTSTAMP:20260422T011147Z
SUMMARY:Projection – «  Les amants du grès » de Laurent Chevallier
LOCATION:à la Cinémathèque Robert Lynen
DTSTART;TZID=Europe/Paris:20231221T190000
DTEND;TZID=Europe/Paris:20231221T000000
END:VEVENT
END:VCALENDAR
