BEGIN:VCALENDAR
VERSION:2.0
PRODID:-//Sabre//Sabre VObject 4.5.7//EN
CALSCALE:GREGORIAN
BEGIN:VEVENT
UID:sabre-vobject-5e43b49d-babf-452f-8b0e-d3fd2c9f90e7
DTSTAMP:20260421T131815Z
SUMMARY:Projection – « Les veilleurs de l’Évangile\, des chrétiens d
 ans la guerre d’Algérie » de Richard Berthollet et Jean-René Genty
LOCATION:à la Scam - salle Brabant
DTSTART;TZID=Europe/Paris:20221130T190000
DTEND;TZID=Europe/Paris:20221130T000000
END:VEVENT
END:VCALENDAR
