BEGIN:VCALENDAR
VERSION:2.0
PRODID:-//Sabre//Sabre VObject 4.5.7//EN
CALSCALE:GREGORIAN
BEGIN:VEVENT
UID:sabre-vobject-a890cc71-2b58-4dde-90a3-3a23c9127a22
DTSTAMP:20260421T195254Z
SUMMARY:Projection – « Mrs and Mr Mafi » de Mina Rad
LOCATION:à la Cinémathèque Robert Lynen
DTSTART;TZID=Europe/Paris:20231130T183000
DTEND;TZID=Europe/Paris:20231130T000000
END:VEVENT
END:VCALENDAR
