BEGIN:VCALENDAR
VERSION:2.0
PRODID:-//Sabre//Sabre VObject 4.5.7//EN
CALSCALE:GREGORIAN
BEGIN:VEVENT
UID:sabre-vobject-3eba5d01-e7c1-4497-8e55-d1721b0683c2
DTSTAMP:20260421T145032Z
SUMMARY:Projection – « Perchés » de Ketty Rios Palma
LOCATION:à la Cinémathèque Robert Lynen
DTSTART;TZID=Europe/Paris:20231127T193000
DTEND;TZID=Europe/Paris:20231127T000000
END:VEVENT
END:VCALENDAR
