BEGIN:VCALENDAR
VERSION:2.0
PRODID:-//Sabre//Sabre VObject 4.5.7//EN
CALSCALE:GREGORIAN
BEGIN:VEVENT
UID:sabre-vobject-81f22cca-aa62-4464-8f53-64a405dd4195
DTSTAMP:20260423T121601Z
SUMMARY:Séance d'écoute – « Pour le chant »\, de Myriam Ayçaguer\, l
 e 07 mai 2026
LOCATION:À LaScam - 05 avenue Vélasquez
DTSTART;TZID=Europe/Paris:20260507T190000
DTEND;TZID=Europe/Paris:20260507T000000
END:VEVENT
END:VCALENDAR
