BEGIN:VCALENDAR
VERSION:2.0
PRODID:-//Sabre//Sabre VObject 4.5.7//EN
CALSCALE:GREGORIAN
BEGIN:VEVENT
UID:sabre-vobject-735a6b26-da95-41d1-ab70-fc67db5d5c1f
DTSTAMP:20260425T130536Z
SUMMARY:Projection – « Voyage en tutti\, Surnatural Orchestra » de Joss
 elin Carré
LOCATION:à la Scam
DTSTART;TZID=Europe/Paris:20220629T190000
DTEND;TZID=Europe/Paris:20220629T000000
END:VEVENT
END:VCALENDAR
