BEGIN:VCALENDAR
VERSION:2.0
PRODID:-//Sabre//Sabre VObject 4.5.7//EN
CALSCALE:GREGORIAN
BEGIN:VEVENT
UID:sabre-vobject-667cf554-4e7f-4297-b751-18e97544f4ce
DTSTAMP:20260421T162832Z
SUMMARY:Projection – « Younost » de Salomé Hévin et Paul Matthey
LOCATION:à la Cinémathèque Robert Lynen
DTSTART;TZID=Europe/Paris:20231128T183000
DTEND;TZID=Europe/Paris:20231128T000000
END:VEVENT
END:VCALENDAR
