BEGIN:VCALENDAR
VERSION:2.0
PRODID:-//Sabre//Sabre VObject 4.5.7//EN
CALSCALE:GREGORIAN
BEGIN:VEVENT
UID:sabre-vobject-8e000b51-d305-4bff-be9c-4c539f987667
DTSTAMP:20260422T024753Z
SUMMARY:Projection – « Zone rouge » de Claude Garnier et Gérard Tüsch
 er
LOCATION:à la Cinémathèque Robert Lynen
DTSTART;TZID=Europe/Paris:20231205T190000
DTEND;TZID=Europe/Paris:20231205T000000
END:VEVENT
END:VCALENDAR
