BEGIN:VCALENDAR
VERSION:2.0
PRODID:-//Sabre//Sabre VObject 4.5.7//EN
CALSCALE:GREGORIAN
BEGIN:VEVENT
UID:sabre-vobject-cffb67d7-3642-46b1-9bc4-c4f5a14b12b7
DTSTAMP:20260423T092229Z
SUMMARY:Rencontre - Les mutations du paysage audiovisuel
LOCATION:à la Scam
DTSTART;TZID=Europe/Paris:20221206T180000
DTEND;TZID=Europe/Paris:20221206T000000
END:VEVENT
END:VCALENDAR
