BEGIN:VCALENDAR
VERSION:2.0
PRODID:-//Sabre//Sabre VObject 4.5.7//EN
CALSCALE:GREGORIAN
BEGIN:VEVENT
UID:sabre-vobject-6b29b225-e50e-473e-85b8-b83e2aadc423
DTSTAMP:20260423T090849Z
SUMMARY:Scam en scène
LOCATION:Théâtre de Porte Saint-Martin - Paris 10e
DTSTART;TZID=Europe/Paris:20221212T200000
DTEND;TZID=Europe/Paris:20221212T220000
END:VEVENT
END:VCALENDAR
